{"text_format":"3","workbook":"xlsx","n_sheets":2,"sheets":["报名表","Sheet2"],"not_rendered":{"defined_names":2,"comments":1},"read":"whole","date_system":"1900"}

{"sheet":"报名表","index":0,"n_rows":36,"n_cols":14,"rows_kept":36,"merged":[[0,2,0,13],[1,2,1,13],[2,12,6,13],[3,5,3,7],[4,5,4,9],[5,5,5,6],[5,8,5,11],[6,3,6,4],[6,5,6,6],[7,2,7,13],[8,2,8,3],[8,4,8,5],[8,6,8,7],[8,8,8,9],[8,10,8,11],[9,2,9,3],[9,4,9,5],[9,6,9,7],[9,8,9,9],[9,10,9,11],[10,2,10,3],[10,4,10,5],[10,6,10,7],[10,8,10,9],[10,10,10,11],[11,2,11,3],[11,4,11,5],[11,6,11,7],[11,8,11,9],[11,10,11,11],[12,2,12,3],[12,4,12,5],[12,6,12,7],[12,8,12,9],[12,10,12,11],[13,2,13,13],[14,2,14,3],[14,4,14,5],[14,6,14,7],[14,8,14,9],[14,10,14,11],[14,12,14,13],[15,2,15,3],[15,4,15,5],[15,6,15,7],[15,8,15,9],[15,10,15,11],[15,12,15,13],[16,2,16,3],[16,4,16,5],[16,6,16,7],[16,8,16,9],[16,10,16,11],[16,12,16,13],[17,2,17,3],[17,4,17,5],[17,6,17,7],[17,8,17,9],[17,10,17,11],[17,12,17,13],[18,2,18,3],[18,4,18,5],[18,6,18,7],[18,8,18,9],[18,10,18,11],[18,12,18,13],[19,2,19,13],[20,4,20,5],[20,6,20,7],[20,8,20,9],[20,10,20,11],[20,12,20,13],[21,4,21,5],[21,6,21,7],[21,8,21,9],[21,10,21,11],[21,12,21,13],[22,4,22,5],[22,6,22,7],[22,8,22,9],[22,10,22,11],[22,12,22,13],[23,4,23,5],[23,6,23,7],[23,8,23,9],[23,10,23,11],[23,12,23,13],[24,4,24,5],[24,6,24,7],[24,8,24,9],[24,10,24,11],[24,12,24,13],[25,4,25,5],[25,6,25,7],[25,8,25,9],[25,10,25,11],[25,12,25,13],[26,2,26,13],[27,2,29,13],[30,2,30,13],[31,2,33,13],[34,2,34,13],[35,2,36,13]]}
[null,null,"贵州富民村镇银行应聘报名表"]
[null,null,"基本信息"]
[null,null,"姓名",null,"性别",null,"籍贯",null,"民族",null,"出生日期",null,"二寸照片"]
[null,null,"身高(cm)",null,"身份证号码",{"$nulls":3},"婚姻状况",null,"户口所在地"]
[null,null,"政治面貌",null,"专业特长",{"$nulls":5},"健康状况"]
[null,null,"参加工作\n时间",null,"手机号码",null,null,"家庭住址"]
[null,null,"应聘岗位",null,null,"应聘地区",null,null,"是否服从\n调配",null,"是否为应届毕业生"]
[null,null,"教育信息（从高中起填写）"]
["当前最高","全日制最高","学历",null,"学校名称",null,"所学专业",null,"毕业时间",null,"学习方式",null,"是否当前最高学历","是否全日制最高学历"]
[{"$f":"M10","v":0},{"$f":"N10","v":0}]
[]
[{"$f":"M12","v":0},{"$f":"N12","v":0}]
[{"$f":"M13","v":0},{"$f":"N13","v":0}]
[null,null,"工作履历或社会实践"]
[null,null,"开始时间",null,"结束时间",null,"工作单位",null,"工作部门",null,"担任职务",null,"证明人及电话"]
[]
[]
[]
[]
[null,null,"家庭成员及重要社会关系"]
[null,null,"关系","亲属姓名","出生日期",null,"政治面貌",null,"工作单位",null,"担任职务",null,"备注"]
[]
[]
[]
[]
[]
[null,null,"获奖情况"]
[]
[]
[]
[null,null,"参加学生会社团情况"]
[{"$f":"O32","v":0}]
[{"$f":"O33","v":0}]
[{"$f":"O34","v":0}]
[null,null,"申请人\n意见\n"]
[null,null,"1.本人申明上述各项填写是真实无误的，如与实际不符所造成的一切后果由本人自行承担。\n2.本人委托贵单位对本人进行背景调查，同意贵单位向有关部门查验本人信息。\n\n                                                                                          本人签字：  \n            \n                                                                                          年   月    日  　　"]

{"sheet":"Sheet2","index":1,"n_rows":2,"n_cols":25,"rows_kept":2,"hidden":true}
["序号","报名序号","姓名","应聘岗位","性别","民族","籍贯","出生日期","年龄","政治\n面貌","身高(cm)","婚姻状况","参加工作时间","第一学历","第一学历毕业时间","第一学历毕业院校","第一学历所学专业","当前学历","当前学历毕业时间","当前学历毕业院校","当前学历所学专业","身份证号码","联系电话","家庭地址","备注"]
[null,null,{"$f":"报名表!D3","v":0},{"$f":"报名表!J7","v":0},{"$f":"IF(报名表!F3=\"\",\"\",报名表!F3)","v":""},{"$f":"IF(报名表!J3=\"\",\"\",报名表!J3)","v":""},{"$f":"IF(报名表!H3=\"\",\"\",报名表!H3)","v":""},{"$f":"IF(LEN(V2)=15,CONCATENATE(19,TEXT(MID(V2,7,2),0),\"-\",TEXT(MID(V2,9,2),0),\"-\",TEXT(MID(V2,11,2),0)),IF(LEN(V2)=18,CONCATENATE(MID(V2,7,4),\"-\",MID(V2,11,2),\"-\",MID(V2,13,2)),\"身份证号码有误\"))","v":"身份证号码有误"},{"$f":"INT((TODAY()-H2)/365)","v":{"$error":"#VALUE!"}},{"$f":"IF(报名表!D5=\"\",\"\",报名表!D5)","v":""},{"$f":"IF(报名表!D4=\"\",\"\",报名表!D4)","v":""},{"$f":"IF(报名表!J4=\"\",\"\",报名表!J4)","v":""},{"$f":"IF(报名表!D6=\"\",\"\",报名表!D6)","v":""},{"$f":"IF(ISNA(VLOOKUP(\"是\",报名表!$B$8:$N$14,2,0)),\"\",VLOOKUP(\"是\",报名表!$B$8:$N$14,2,0))","v":""},{"$f":"IF(ISNA(VLOOKUP(\"是\",报名表!$B$8:$N$14,8,0)),\"\",VLOOKUP(\"是\",报名表!$B$8:$N$14,8,0))","v":""},{"$f":"IF(ISNA(VLOOKUP(\"是\",报名表!$B$8:$N$14,4,0)),\"\",VLOOKUP(\"是\",报名表!$B$8:$N$14,4,0))","v":""},{"$f":"IF(ISNA(VLOOKUP(\"是\",报名表!$B$8:$N$14,6,0)),\"\",VLOOKUP(\"是\",报名表!$B$8:$N$14,6,0))","v":""},{"$f":"IF(ISNA(VLOOKUP(\"是\",报名表!$A$8:$N$14,3,0)),\"\",VLOOKUP(\"是\",报名表!$A$8:$N$14,3,0))","v":""},{"$f":"IF(ISNA(VLOOKUP(\"是\",报名表!$A$8:$N$14,9,0)),\"\",VLOOKUP(\"是\",报名表!$A$8:$N$14,9,0))","v":""},{"$f":"IF(ISNA(VLOOKUP(\"是\",报名表!$A$8:$N$14,5,0)),\"\",VLOOKUP(\"是\",报名表!$A$8:$N$14,5,0))","v":""},{"$f":"IF(ISNA(VLOOKUP(\"是\",报名表!$A$8:$N$14,7,0)),\"\",VLOOKUP(\"是\",报名表!$A$8:$N$14,7,0))","v":""},{"$f":"IF(报名表!F4=\"\",\"\",报名表!F4)","v":""},{"$f":"IF(报名表!#REF!=\"\",\"\",报名表!#REF!)","v":{"$error":"#REF!"}},{"$f":"IF(报名表!H6=\"\",\"\",报名表!H6)","v":"家庭住址"},{"$f":"IF(报名表!H5=\"\",\"\",报名表!H5)","v":""}]